BEGIN:VCALENDAR
VERSION:2.0
CALSCALE:GREGORIAN
METHOD:PUBLISH
PRODID://WPCC//1321225
BEGIN:VEVENT
DTSTAMP:20260422T154255
VTIMEZONE:America/Los_Angeles
DTSTART:20250411T150000Z
DTEND:20250411T160000Z
UID:1321225
SUMMARY:The Morning Connection - B2B Member Network Group
LOCATION:Airway Heights Parks & Recreation Center, 11405 W Deno Rd, Airway Heights, WA, 99224
DESCRIPTION:The Morning Connection - B2B Member Network Group\n\n04/11/25 08:00 AM PST\n - 04/11/25 09:00 AM PST\Description:\nThe Morning Connection - B2B Member Network Group\n\nThe Connection West is a premier B2B Member Networking Group that focuses on building relationships for a more impactful and vibrant business footprint. \n\nThis dedicated group meets twice a month to engage, connect, and grow with one another and other business leaders from the region. \n\nFor additional information, contact Jim Reincke, Community Engagement Director, at Jim@WestPlainsChamber.org.\n\nWho: The Morning Connection - B2B Member Networking Group\nWhen: 2nd & 4th Friday of Month\nWhere: Airway Heights Parks & Recreation Center\Location:\nAirway Heights Parks & Recreation Center\n11405 W Deno Rd\nAirway Heights, WA 99224
X-ALT-DESC;FMTTYPE=text/html:The Morning Connection - B2B Member Network Group<br /><br />04/11/25 08:00 AM PST - 04/11/25 09:00 AM PST<br />Description:<br />The Morning Connection - B2B Member Network Group<br />
<br />
The Connection West is a premier B2B Member Networking Group that focuses on building relationships for a more impactful and vibrant business footprint.&nbsp;<br />
<br />
This dedicated group meets twice a month to engage, connect, and grow with one another and other business leaders from the region.&nbsp;<br />
<br />
For additional information, contact Jim Reincke, Community Engagement Director, at Jim@WestPlainsChamber.org.<br />
<br />
Who: The Morning Connection - B2B Member Networking Group<br />
When: 2nd &amp; 4th Friday of Month<br />
Where: Airway Heights Parks &amp; Recreation Center<br />Location:<br />Airway Heights Parks & Recreation Center<br />11405 W Deno Rd<br />Airway Heights, WA 99224
PRIORITY:3
TRANSP:TRANSPARENT
BEGIN:VALARM
TRIGGER:-PT5M
ACTION:DISPLAY
DESCRIPTION:Reminder
END:VALARM
END:VEVENT
END:VCALENDAR
