BEGIN:VCALENDAR
VERSION:2.0
CALSCALE:GREGORIAN
METHOD:PUBLISH
PRODID://WPCC//1373039
BEGIN:VEVENT
DTSTAMP:20260422T172627
VTIMEZONE:America/Los_Angeles
DTSTART:20260212T190000Z
DTEND:20260212T230000Z
UID:1373039
SUMMARY:EWU Winter Career Fair 2026
LOCATION:EWU PUB NCR, 926 Elm St, Cheney, WA, 99004
DESCRIPTION:EWU Winter Career Fair 2026\n\n02/12/26 11:00 AM PST\n - 02/12/26 03:00 PM PST\Description:\nWelcome to Eastern Washington University's 2026 Winter Career Fair! \n\nWe very much appreciate your continued interest in and support for our amazing students and alumni. In order to make this a fun and productive recruitment experience, please be sure to complete this form as accurately and completely as possible. \n\nThis fair is designed to specifically serve all students participating in our academic programs. We encourage you to only select majors that you're actively interested in recruiting. This allows us to better prepare students and more easily connect them with you. If you have questions at any point, do not hesitate to call or email  Casey Mowatt at cmowatt@ewu.edu. \n\nDon't delay! Click the "Register" button above now and let's get started.\Details:\nPremier Sponsor ($1000)\nIn addition to the standard (one 6′ table, 2 chairs, lunch for 2 representatives) registration, being a premier sponsor will get you:\n\n\n	First dibs on booth selection\n	Parking in our premier lot,\n	A “thank you” as well as your logo listed in the event program and digital signage throughout EWU campus.\n	No Late Fee charge\n\n\nElite Sponsor ($650)\nIn addition to the standard (one 6′ table, 2 chairs, lunch for 2 representatives) registration, being a elite sponsor will get you:\n\n\n	Second dibs on booth selection\n	No Late Fee charge\n\n\nStandard Registration ($500)\nThe standard registration includes one 6′ table, 2 chairs, lunch for 2 representatives, and parking. Due to limited access to power in the event space, you will have the option to add power to your booth later in the registration process for a small fee.\n\nGovernment Registration ($350)\nGovernment registration includes one 6′ rectangle table, 2 chairs, lunch for 1 representative and parking. Due to limited access to power in the event space, you will have the option to add power to your booth later in the registration process for a small fee.\n\nNon-Profit ($250)\nThe non-profit registration is only for small service organizations (<$150K operating budget) that meet non-profit criteria AND do not have recruitment funds available for a standard registration. There are only ten of these registrations available and they will be filled on a first come, first served basis.\n\Location:\nEWU PUB NCR\n926 Elm St\nCheney, WA 99004
X-ALT-DESC;FMTTYPE=text/html:EWU Winter Career Fair 2026<br /><br />02/12/26 11:00 AM PST - 02/12/26 03:00 PM PST<br />Description:<br />Welcome to Eastern Washington University's 2026 Winter Career Fair!&nbsp;<br />
<br />
We very much appreciate your continued interest in and support for our amazing students and alumni. In order to make this a fun and productive recruitment experience, please be sure to complete this form as accurately and completely as possible.&nbsp;<br />
<br />
This fair is designed to specifically serve all students participating in our academic programs. We encourage you to only select majors that you're actively interested in recruiting. This allows us to better prepare students and more easily connect them with you. If you have questions at any point, do not hesitate to call or email &nbsp;Casey Mowatt at cmowatt@ewu.edu.&nbsp;<br />
<br />
Don't delay! Click the &quot;Register&quot; button above now and let's get started.<br />Details:<br /><h3><strong>Premier Sponsor ($1000)</strong><br />
In addition to the standard (one 6&prime; table, 2 chairs, lunch for 2 representatives) registration, being a premier sponsor will get you:</h3>

<ul>
	<li>First dibs on booth selection</li>
	<li>Parking in our premier lot,</li>
	<li>A &ldquo;thank you&rdquo; as well as your logo listed in the event program and digital signage throughout EWU campus.</li>
	<li>No Late Fee charge</li>
</ul>

<p><strong>Elite Sponsor ($650)</strong><br />
In addition to the standard (one 6&prime; table, 2 chairs, lunch for 2 representatives) registration, being a elite sponsor will get you:</p>

<ul>
	<li>Second dibs on booth selection</li>
	<li>No Late Fee charge</li>
</ul>

<p><strong>Standard Registration ($500)</strong><br />
The standard registration includes one 6&prime; table, 2 chairs, lunch for 2 representatives, and parking. Due to limited access to power in the event space, you will have the option to add power to your booth later in the registration process for a small fee.<br />
<br />
<strong>Government Registration ($350)</strong><br />
Government registration includes one 6&prime; rectangle table, 2 chairs, lunch for 1 representative and parking. Due to limited access to power in the event space, you will have the option to add power to your booth later in the registration process for a small fee.<br />
<br />
<strong>Non-Profit ($250)</strong><br />
The non-profit registration is only for small service organizations (&lt;$150K operating budget) that meet non-profit criteria AND do not have recruitment funds available for a standard registration. There are only ten of these registrations available and they will be filled on a first come, first served basis.</p>
<br />Location:<br />EWU PUB NCR<br />926 Elm St<br />Cheney, WA 99004
PRIORITY:3
TRANSP:TRANSPARENT
BEGIN:VALARM
TRIGGER:-PT5M
ACTION:DISPLAY
DESCRIPTION:Reminder
END:VALARM
END:VEVENT
END:VCALENDAR
