BEGIN:VCALENDAR
VERSION:2.0
CALSCALE:GREGORIAN
METHOD:PUBLISH
PRODID://WPCC//1377488
BEGIN:VEVENT
DTSTAMP:20260422T220339
VTIMEZONE:America/Los_Angeles
DTSTART:20251120T020000Z
DTEND:20251120T050000Z
UID:1377488
SUMMARY:Best of the WILD West presented by the Kalispel Tribe of Indians
LOCATION:Northern Quest Resort & Casino Pend Oreille Pavilion, 100 N Hayford Rd, Airway Heights, WA, 99001
DESCRIPTION:Best of the WILD West presented by the Kalispel Tribe of Indians\n\n11/19/25 06:00 PM PST\n - 11/19/25 09:00 PM PST\Location:\nNorthern Quest Resort & Casino Pend Oreille Pavilion\n100 N Hayford Rd\nAirway Heights, WA 99001
X-ALT-DESC;FMTTYPE=text/html:Best of the WILD West presented by the Kalispel Tribe of Indians<br /><br />11/19/25 06:00 PM PST - 11/19/25 09:00 PM PST<br />Location:<br />Northern Quest Resort & Casino Pend Oreille Pavilion<br />100 N Hayford Rd<br />Airway Heights, WA 99001
PRIORITY:3
TRANSP:TRANSPARENT
BEGIN:VALARM
TRIGGER:-PT5M
ACTION:DISPLAY
DESCRIPTION:Reminder
END:VALARM
END:VEVENT
END:VCALENDAR
