BEGIN:VCALENDAR
VERSION:2.0
CALSCALE:GREGORIAN
METHOD:PUBLISH
PRODID://WPCC//1378289
BEGIN:VEVENT
DTSTAMP:20260422T233028
VTIMEZONE:America/Los_Angeles
DTSTART:20251030T200000Z
DTEND:20251030T230000Z
UID:1378289
SUMMARY:	 Medicare Open Enrollment One-on-One Sessions
LOCATION:Cheney Library , 610 1st St, Cheney, WA, 99004
DESCRIPTION:Medicare Open Enrollment One-on-One Sessions\n\n10/30/25 01:00 PM PST\n - 10/30/25 04:00 PM PST\Description:\nRegistration is required. To schedule your one-on-one counseling appointment with a SHIBA volunteer, call 509.777.1592. Be sure to bring your Medicare card and a list of your current prescriptions to your appointment.\n\nCosts and coverage for Part D plans and the Medicare Advantage plan can change every year, so it is important to review your plans for 2026. Any changes you want to make need to be submitted during the open enrollment period: October 15–December 7, 2025. Trained SHIBA volunteers can help you research, assess, and evaluate which options work best for you and your needs so you can make an informed decision. \n\nStatewide Health Insurance Benefits Advisors (SHIBA) provide free, unbiased, and confidential counseling services and are part of the Washington State Office of the Insurance Commissioner. SHIBA is a statewide network of trained volunteers who advocate for and assist consumers with Medicare and is sponsored locally by Aging & Long Term Care of Eastern Washington (ALTCEW).\n\Details:\nFree\nRegistration is required\nhttps://scld.libcal.com/event/14603489\Location:\nCheney Library \n610 1st St\nCheney, WA 99004
X-ALT-DESC;FMTTYPE=text/html:	 Medicare Open Enrollment One-on-One Sessions<br /><br />10/30/25 01:00 PM PST - 10/30/25 04:00 PM PST<br />Description:<br /><p>Registration is required. To schedule your one-on-one counseling appointment with a SHIBA volunteer, call 509.777.1592. Be sure to bring your Medicare card and a list of your current prescriptions to your appointment.</p>

<p>Costs and coverage for Part D plans and the Medicare Advantage plan can change every year, so it is important to review your plans for 2026. Any changes you want to make need to be submitted during the open enrollment period: October 15&ndash;December 7, 2025. Trained SHIBA volunteers can help you research, assess, and evaluate which options work best for you and your needs so you can make an informed decision.&nbsp;</p>

<p>Statewide Health Insurance Benefits Advisors (SHIBA) provide free, unbiased, and confidential counseling services and are part of the Washington State Office of the Insurance Commissioner. SHIBA is a statewide network of trained volunteers who advocate for and assist consumers with Medicare and is sponsored locally by Aging &amp; Long Term Care of Eastern Washington (ALTCEW).</p>
<br />Details:<br />Free<br />
Registration is required<br />
https://scld.libcal.com/event/14603489<br />Location:<br />Cheney Library <br />610 1st St<br />Cheney, WA 99004
PRIORITY:3
TRANSP:TRANSPARENT
BEGIN:VALARM
TRIGGER:-PT5M
ACTION:DISPLAY
DESCRIPTION:Reminder
END:VALARM
END:VEVENT
END:VCALENDAR
