BEGIN:VCALENDAR
VERSION:2.0
CALSCALE:GREGORIAN
METHOD:PUBLISH
PRODID://WPCC//1385530
BEGIN:VEVENT
DTSTAMP:20260422T220421
VTIMEZONE:America/Los_Angeles
DTSTART:20251101T170000Z
DTEND:20251102T000000Z
UID:1385530
SUMMARY:	 Jigsaw Puzzle & Board Game Swap 
LOCATION:Airway Heights Library, 1213 S Lundstrom, Airway Heights, WA, 99001
DESCRIPTION:Jigsaw Puzzle & Board Game Swap \n\n11/01/25 10:00 AM PST\n - 11/01/25 05:00 PM PST\Description:\nTrade in the jigsaw puzzles you’ve completed and board games you’re done playing for a new challenge. Please only bring puzzles and games that have all of their pieces. Puzzles and games can be any difficulty level.\Details:\nFree\nhttps://scld.libcal.com/event/14253922\Location:\nAirway Heights Library\n1213 S Lundstrom\nAirway Heights, WA 99001
X-ALT-DESC;FMTTYPE=text/html:	 Jigsaw Puzzle & Board Game Swap <br /><br />11/01/25 10:00 AM PST - 11/01/25 05:00 PM PST<br />Description:<br />Trade in the jigsaw puzzles you&rsquo;ve completed and board games you&rsquo;re done playing for a new challenge. Please only bring puzzles and games that have all of their pieces. Puzzles and games can be any difficulty level.<br />Details:<br />Free<br />
https://scld.libcal.com/event/14253922<br />Location:<br />Airway Heights Library<br />1213 S Lundstrom<br />Airway Heights, WA 99001
PRIORITY:3
TRANSP:TRANSPARENT
BEGIN:VALARM
TRIGGER:-PT5M
ACTION:DISPLAY
DESCRIPTION:Reminder
END:VALARM
END:VEVENT
END:VCALENDAR
