BEGIN:VCALENDAR
VERSION:2.0
CALSCALE:GREGORIAN
METHOD:PUBLISH
PRODID://WPCC//1385531
BEGIN:VEVENT
DTSTAMP:20260422T220421
VTIMEZONE:America/Los_Angeles
DTSTART:20251113T020000Z
DTEND:20251113T033000Z
UID:1385531
SUMMARY:World Cooking: Colombian Food
LOCATION:Online SCLD Library Event
DESCRIPTION:World Cooking: Colombian Food\n\n11/12/25 06:00 PM PST\n - 11/12/25 07:30 PM PST\Description:\nRegistration is required.\n\nChef Jacky Londoño of Antojitos Colombianos demonstrates the preparation of a traditional dish in an online presentation while you follow along in your home kitchen. After registration, you will receive the recipe and an ingredient list via email prior to the presentation. Be sure to purchase and prepare the ingredients as indicated in advance to cook along with the chef. Presenters also share tidbits about food and culture.\n\Details:\nFree\nRegistration is required\nhttps://scld.libcal.com/event/14744548\Location:\nOnline SCLD Library Event\n\n,
X-ALT-DESC;FMTTYPE=text/html:World Cooking: Colombian Food<br /><br />11/12/25 06:00 PM PST - 11/12/25 07:30 PM PST<br />Description:<br /><p>Registration is required.</p>

<p>Chef Jacky Londo&ntilde;o of Antojitos Colombianos demonstrates the preparation of a traditional dish in an online presentation while you follow along in your home kitchen. After registration, you will receive the recipe and an ingredient list via email prior to the presentation. Be sure to purchase and prepare the ingredients as indicated in advance to cook along with the chef. Presenters also share tidbits about food and culture.</p>
<br />Details:<br />Free<br />
Registration is required<br />
https://scld.libcal.com/event/14744548<br />Location:<br />Online SCLD Library Event<br /><br />,  
PRIORITY:3
TRANSP:TRANSPARENT
BEGIN:VALARM
TRIGGER:-PT5M
ACTION:DISPLAY
DESCRIPTION:Reminder
END:VALARM
END:VEVENT
END:VCALENDAR
