BEGIN:VCALENDAR
VERSION:2.0
CALSCALE:GREGORIAN
METHOD:PUBLISH
PRODID://WPCC//1385533
BEGIN:VEVENT
DTSTAMP:20260422T220339
VTIMEZONE:America/Los_Angeles
DTSTART:20251120T200000Z
DTEND:20251120T213000Z
UID:1385533
SUMMARY:Resiliency in Business
LOCATION:Online SCLD Library Event
DESCRIPTION:Resiliency in Business\n\n11/20/25 12:00 PM PST\n - 11/20/25 01:30 PM PST\Description:\nRegistration is required. Register using the Event URL below.\n\nEvery small business needs to prepare for challenges. With the help of a SCORE mentor, learn how to plan and prepare for potential challenges for your business, including pandemics, natural disasters, extreme weather, industry regulation changes, supply chain disruptions, and other difficult situations. \n\nPresented by a mentor from SCORE Spokane\n\Details:\nFree\nRegistraiton is required\nhttps://scld.libcal.com/event/15267396\Location:\nOnline SCLD Library Event\n\n,
X-ALT-DESC;FMTTYPE=text/html:Resiliency in Business<br /><br />11/20/25 12:00 PM PST - 11/20/25 01:30 PM PST<br />Description:<br /><p>Registration is required. Register using the Event URL below.</p>

<p>Every small business needs to prepare for challenges. With the help of a SCORE mentor, learn how to plan and prepare for potential challenges for your business, including pandemics, natural disasters, extreme weather, industry regulation changes, supply chain disruptions, and other difficult situations.&nbsp;</p>

<p>Presented by a mentor from SCORE Spokane</p>
<br />Details:<br />Free<br />
Registraiton is required<br />
https://scld.libcal.com/event/15267396<br />Location:<br />Online SCLD Library Event<br /><br />,  
PRIORITY:3
TRANSP:TRANSPARENT
BEGIN:VALARM
TRIGGER:-PT5M
ACTION:DISPLAY
DESCRIPTION:Reminder
END:VALARM
END:VEVENT
END:VCALENDAR
