BEGIN:VCALENDAR
VERSION:2.0
CALSCALE:GREGORIAN
METHOD:PUBLISH
PRODID://WPCC//1389866
BEGIN:VEVENT
DTSTAMP:20260422T220502
VTIMEZONE:America/Los_Angeles
DTSTART:20251114T000000Z
DTEND:20251114T010000Z
UID:1389866
SUMMARY:	 Create Tin Foil Art
LOCATION:Cheney Library, 610 1st St, Cheney, WA, 99004
DESCRIPTION:Create Tin Foil Art\n\n11/13/25 04:00 PM PST\n - 11/13/25 05:00 PM PST\Description:\nKids 5+ & their families\n\nWe have an art medium for you to try. Create one-of-a-kind art using tin foil and permanent markers. Explore what you can make! The library provides all supplies.\n\nKids 8 and younger must bring an adult.\n\Details:\nFree\nhttps://scld.libcal.com/event/14742362\Location:\nCheney Library\n610 1st St\nCheney, WA 99004
X-ALT-DESC;FMTTYPE=text/html:	 Create Tin Foil Art<br /><br />11/13/25 04:00 PM PST - 11/13/25 05:00 PM PST<br />Description:<br /><p>Kids 5+ &amp; their families</p>

<p>We have an art medium for you to try. Create one-of-a-kind art using tin foil and permanent markers. Explore what you can make! The library provides all supplies.</p>

<p>Kids 8 and younger must bring an adult.</p>
<br />Details:<br />Free<br />
https://scld.libcal.com/event/14742362<br />Location:<br />Cheney Library<br />610 1st St<br />Cheney, WA 99004
PRIORITY:3
TRANSP:TRANSPARENT
BEGIN:VALARM
TRIGGER:-PT5M
ACTION:DISPLAY
DESCRIPTION:Reminder
END:VALARM
END:VEVENT
END:VCALENDAR
