BEGIN:VCALENDAR
VERSION:2.0
CALSCALE:GREGORIAN
METHOD:PUBLISH
PRODID://WPCC//1390700
BEGIN:VEVENT
DTSTAMP:20260422T202651
VTIMEZONE:America/Los_Angeles
DTSTART:20251205T003000Z
DTEND:20251205T020000Z
UID:1390700
SUMMARY:ðŸŽ‰ Business After Hours at Rosaâ€™s Pizza â€“ Cheney
LOCATION:Rosa's Pizza, 1706 2nd St, Cheney, WA, 99004
DESCRIPTION:ðŸŽ‰ Business After Hours at Rosaâ€™s Pizza â€“ Cheney\n\n12/04/25 04:30 PM PST\n - 12/04/25 06:00 PM PST\Description:\nBusiness After Hours at Rosa’s Pizza – Cheney\nThursday, December 4, 2025 | 4:30 PM – 6:00 PM\n\nJoin us for our final Business After Hours of the year at Rosa’s Pizza in Cheney, one of the West Plains’ most beloved local spots! We’ll gather in the dining room for a relaxed evening of networking, delicious food, and community connection.\n\nEvent Highlights:\n• Samples of Rosa’s FAMOUS Cheese Breads of the Month ðŸ§€ðŸž\n• Connect with West Plains business leaders\n• Build relationships and expand your network before the new year\n• Chamber updates and 2026 outlook\n\nCost:\nâœ” FREE for West Plains Chamber Members\nâœ” $25 for Future Members\n\nCome kick off the holiday season with good food, great people, and meaningful conversations. Bring a friend or colleague and help us close out 2025 in style!\n\Details:\nBusiness After Hours at Rosa’s Pizza – Cheney\nThursday, December 4, 2025 | 4:30 PM – 6:00 PM\n\nJoin us for our final Business After Hours of the year at Rosa’s Pizza in Cheney, one of the West Plains’ most beloved local spots! We’ll gather in the dining room for a relaxed evening of networking, delicious food, and community connection.\n\nEvent Highlights:\n• Samples of Rosa’s FAMOUS Cheese Breads of the Month ðŸ§€ðŸž\n• Connect with West Plains business leaders\n• Build relationships and expand your network before the new year\n• Chamber updates and 2026 outlook\n\nCost:\nâœ” FREE for West Plains Chamber Members\nâœ” $25 for Future Members\n\nCome kick off the holiday season with good food, great people, and meaningful conversations. Bring a friend or colleague and help us close out 2025 in style!\n\Location:\nRosa's Pizza\n1706 2nd St\nCheney, WA 99004
X-ALT-DESC;FMTTYPE=text/html:ðŸŽ‰ Business After Hours at Rosaâ€™s Pizza â€“ Cheney<br /><br />12/04/25 04:30 PM PST - 12/04/25 06:00 PM PST<br />Description:<br /><p data-end="321" data-start="217"><strong data-end="266" data-start="217">Business After Hours at Rosa&rsquo;s Pizza &ndash; Cheney</strong><br data-end="269" data-start="266" />
<strong data-end="319" data-start="269">Thursday, December 4, 2025 | 4:30 PM &ndash; 6:00 PM</strong></p>

<p data-end="569" data-start="323">Join us for our final Business After Hours of the year at <strong data-end="407" data-start="381">Rosa&rsquo;s Pizza in Cheney</strong>, one of the West Plains&rsquo; most beloved local spots! We&rsquo;ll gather in the dining room for a relaxed evening of networking, delicious food, and community connection.</p>

<p data-end="808" data-start="571"><strong data-end="592" data-start="571">Event Highlights:</strong><br data-end="595" data-start="592" />
&bull; Samples of Rosa&rsquo;s <em data-end="650" data-start="615">FAMOUS Cheese Breads of the Month</em> ðŸ§€ðŸž<br data-end="658" data-start="655" />
&bull; Connect with West Plains business leaders<br data-end="704" data-start="701" />
&bull; Build relationships and expand your network before the new year<br data-end="772" data-start="769" />
&bull; Chamber updates and 2026 outlook</p>

<p data-end="897" data-start="810"><strong data-end="819" data-start="810">Cost:</strong><br data-end="822" data-start="819" />
âœ” <strong data-end="832" data-start="824">FREE</strong> for West Plains Chamber Members<br data-end="867" data-start="864" />
âœ” <strong data-end="876" data-start="869">$25</strong> for Future Members</p>

<p data-end="1056" data-start="899">Come kick off the holiday season with good food, great people, and meaningful conversations. Bring a friend or colleague and help us close out 2025 in style!</p>
<br />Details:<br /><p data-end="321" data-start="217"><strong data-end="266" data-start="217">Business After Hours at Rosa&rsquo;s Pizza &ndash; Cheney</strong><br data-end="269" data-start="266" />
<strong data-end="319" data-start="269">Thursday, December 4, 2025 | 4:30 PM &ndash; 6:00 PM</strong></p>

<p data-end="569" data-start="323">Join us for our final Business After Hours of the year at <strong data-end="407" data-start="381">Rosa&rsquo;s Pizza in Cheney</strong>, one of the West Plains&rsquo; most beloved local spots! We&rsquo;ll gather in the dining room for a relaxed evening of networking, delicious food, and community connection.</p>

<p data-end="808" data-start="571"><strong data-end="592" data-start="571">Event Highlights:</strong><br data-end="595" data-start="592" />
&bull; Samples of Rosa&rsquo;s <em data-end="650" data-start="615">FAMOUS Cheese Breads of the Month</em> ðŸ§€ðŸž<br data-end="658" data-start="655" />
&bull; Connect with West Plains business leaders<br data-end="704" data-start="701" />
&bull; Build relationships and expand your network before the new year<br data-end="772" data-start="769" />
&bull; Chamber updates and 2026 outlook</p>

<p data-end="897" data-start="810"><strong data-end="819" data-start="810">Cost:</strong><br data-end="822" data-start="819" />
âœ” <strong data-end="832" data-start="824">FREE</strong> for West Plains Chamber Members<br data-end="867" data-start="864" />
âœ” <strong data-end="876" data-start="869">$25</strong> for Future Members</p>

<p data-end="1056" data-start="899">Come kick off the holiday season with good food, great people, and meaningful conversations. Bring a friend or colleague and help us close out 2025 in style!</p>
<br />Location:<br />Rosa's Pizza<br />1706 2nd St<br />Cheney, WA 99004
PRIORITY:3
TRANSP:TRANSPARENT
BEGIN:VALARM
TRIGGER:-PT5M
ACTION:DISPLAY
DESCRIPTION:Reminder
END:VALARM
END:VEVENT
END:VCALENDAR
