BEGIN:VCALENDAR
VERSION:2.0
CALSCALE:GREGORIAN
METHOD:PUBLISH
PRODID://WPCC//1391685
BEGIN:VEVENT
DTSTAMP:20260422T220318
VTIMEZONE:America/Los_Angeles
DTSTART:20251129T210000Z
DTEND:20251130T000000Z
UID:1391685
SUMMARY:Holiday Wreath Workshop
LOCATION:Commellini Estate, 14715 N. Dartford Drive, Spokane, Wa, 99208
DESCRIPTION:Holiday Wreath Workshop\n\n11/29/25 01:00 PM PST\n - 11/29/25 04:00 PM PST\Description:\nKick off the holiday season with a cozy, creative evening at the historic Commellini Estate!\n\nJoin us for our Holiday Wreath Workshop, where you’ll design and craft your own beautiful fresh green wreath, the perfect festive touch for your front door, mantle, or as a heartfelt handmade gift.\n\nOur team will provide all materials, including lush greenery, ribbon, ornaments, and seasonal accents. No experience is necessary, just bring your creativity and holiday spirit! As you create, sip on hot cocoa and enjoy the cheerful glow of the estate during the most magical time of year.\n\Details:\n\nDescription\n\n\n11.29.2025 Saturday Holiday Wreath Workshop @1:00 PM\n\n$49.00\n\n\n\n\n\n \n\n\n\n\n11.29.2025 Saturday Holiday Wreath Workshop @1:00 PM\n\n$49.00\n\n\n\nEach ticket includes:\n\n\n• All materials and supplies to create one custom holiday wreath\n\n• Step-by-step instruction and guidance\n\n• A $5 shop card to use toward Commellini Estate’s retail items, featuring Italian meals, holiday cards, and treats\n\n• Complimentary hot cocoa to keep you warm and inspired\n\nClass Details:\n\n• Minimum Enrollment: 10 participants (If fewer than 10 register, the class will be canceled and participants will be refunded.)\n\n• Duration: Approximately 2 hours\n\n• Location: Commellini Estate | 14715 N Dartford Dr, Spokane, WA\n\nGather your friends, sip something sweet, and craft a little holiday magic with us. ðŸŽ„\n\Location:\nCommellini Estate\n14715 N. Dartford Drive\nSpokane, Wa 99208
X-ALT-DESC;FMTTYPE=text/html:Holiday Wreath Workshop<br /><br />11/29/25 01:00 PM PST - 11/29/25 04:00 PM PST<br />Description:<br /><p>Kick off the holiday season with a cozy, creative evening at the historic Commellini Estate!</p>

<p>Join us for our&nbsp;<strong>Holiday Wreath Workshop</strong>, where you&rsquo;ll design and craft your own beautiful fresh green wreath, the perfect festive touch for your front door, mantle, or as a heartfelt handmade gift.</p>

<p>Our team will provide all materials, including lush greenery, ribbon, ornaments, and seasonal accents. No experience is necessary, just bring your creativity and holiday spirit! As you create, sip on hot cocoa and enjoy the cheerful glow of the estate during the most magical time of year.</p>
<br />Details:<br /><button aria-controls="m-accordion-header-j9j57sczz-content" aria-expanded="true" fdprocessedid="m8ao3s" id="m-accordion-header-j9j57sczz" type="button"></button>
<p data-v-57b7eec7="" data-v-ad319c12=""><button aria-controls="m-accordion-header-j9j57sczz-content" aria-expanded="true" fdprocessedid="m8ao3s" id="m-accordion-header-j9j57sczz" type="button">Description</button></p>

<section data-v-e8de0bbe="">
<h1 data-v-13004c05="" data-v-38a83a30="" highlightstring="" title="11.29.2025 Saturday Holiday Wreath Workshop @1:00 PM">11.29.2025 Saturday Holiday Wreath Workshop @1:00 PM</h1>

<h3 data-v-13004c05="" data-v-36793a44="" data-v-6a09b765="">$49.00</h3>
<br />
<button aria-disabled="true" aria-label="Decrement" disabled="disabled" type="button"></button><button aria-label="Increment" fdprocessedid="jxwwlc" type="button"></button></section>

<section data-v-e8de0bbe="">
<section data-v-1c019415="">
<header>&nbsp;</header>
</section>
</section>

<section data-v-e8de0bbe="">
<p data-v-13004c05="" data-v-38a83a30="" highlightstring="" title="11.29.2025 Saturday Holiday Wreath Workshop @1:00 PM">11.29.2025 Saturday Holiday Wreath Workshop @1:00 PM</p>

<p data-v-13004c05="" data-v-36793a44="" data-v-6a09b765="">$49.00</p>
</section>

<section data-v-e8de0bbe="">
<section data-v-1c019415=""><strong>Each ticket includes:</strong></section>
</section>

<p>&bull; All materials and supplies to create one custom holiday wreath</p>

<p>&bull; Step-by-step instruction and guidance</p>

<p><strong>&bull; A $5 shop card</strong>&nbsp;to use toward Commellini Estate&rsquo;s retail items, featuring Italian meals, holiday cards, and treats</p>

<p>&bull; Complimentary hot cocoa to keep you warm and inspired</p>

<p><strong>Class Details:</strong></p>

<p><strong>&bull; Minimum Enrollment:</strong>&nbsp;10 participants (If fewer than 10 register, the class will be canceled and participants will be refunded.)</p>

<p>&bull;&nbsp;<strong>Duration:</strong>&nbsp;Approximately 2 hours</p>

<p>&bull;&nbsp;<strong>Location:</strong>&nbsp;Commellini Estate | 14715 N Dartford Dr, Spokane, WA</p>

<p>Gather your friends, sip something sweet, and craft a little holiday magic with us. ðŸŽ„</p>
<br />Location:<br />Commellini Estate<br />14715 N. Dartford Drive<br />Spokane, Wa 99208
PRIORITY:3
TRANSP:TRANSPARENT
BEGIN:VALARM
TRIGGER:-PT5M
ACTION:DISPLAY
DESCRIPTION:Reminder
END:VALARM
END:VEVENT
END:VCALENDAR
