BEGIN:VCALENDAR
VERSION:2.0
CALSCALE:GREGORIAN
METHOD:PUBLISH
PRODID://WPCC//1393818
BEGIN:VEVENT
DTSTAMP:20260422T202653
VTIMEZONE:America/Los_Angeles
DTSTART:20251212T170000Z
DTEND:20251212T210000Z
UID:1393818
SUMMARY:THE GROWTH & STRATEGY CONFERENCE 2026
LOCATION:Mode Liberty Lake, 2110 N Molter Rd, Liberty Lake, WA, 99019
DESCRIPTION:THE GROWTH & STRATEGY CONFERENCE 2026\n\n12/12/25 09:00 AM PST\n - 12/12/25 01:00 PM PST\Description:\nYOU'VE WORKED HARD TO GROW. NOW YOU NEED A PLAN THAT PUTS YOU BACK IN CONTROL!\n\nYou’ve put in the work and built a business you can be proud of.\nBut if you’re honest, this year has felt heavier than you expected.\n\nYou’ve been pulled in every direction.\nYour time is stretched thin.\nAnd you’re making big decisions without the clarity you really need.\n\nYou know your business has more potential.\nYou just need space to slow down, think clearly, and build a plan that helps you lead with confidence again.\n\nThe truth is, guessing your way into 2026 won’t get you where you want to go.\nPlanning with intention will.\n\nThe Business Owner’s Growth and Strategy Conference 2026 is your chance to step back from the noise, see your business through a fresh lens, and create a focused growth plan you can execute without burning out.\n\Details:\nWHAT YOU'LL EXPERIENCE\n\nAt the Business Owner’s Growth and Strategy Conference 2026, you’ll step out of the daily grind and into a space built for clarity, planning, and smarter growth.\n\nHere’s what you can expect:\n\n\n	Reflect on What Worked This Year\n	You’ll look at the wins, the challenges, and the patterns that shaped your year so you can make smarter decisions for what comes next.\n	Get Clear on What Needs to Change\n	You’ll identify the gaps, roadblocks, and distractions that are slowing you down and learn how to shift into a more focused, effective way of leading.\n	Build Your 2026 Growth Plan\n	You’ll walk through a guided process that helps you set clear priorities, organize your next steps, and create a plan you can actually stick with.\n	Connect With Other Growth-Minded Owners\n	You’ll learn from peers who understand the pressures, decisions, and responsibilities you carry. The room alone will lift your perspective and sharpen your direction. \n\n\nWHO THIS IS FOR\n\nThis conference is designed for established business owners who:\n\n\n	Built a strong business, but feel like the pace, pressure, and decisions are getting heavier\n	Want more clarity, more control, and a plan that helps them lead instead of react\n	Know they need to slow down long enough to think, plan, and set clear direction for 2026\n	Value being in a room with other owners who are serious about growth, leadership, and smarter scaling\n	Are ready to step back, get focused, and create a plan they can put into motion with confidence\n\n\nIf you’re ready to stop guessing and start leading your business with purpose in 2026, this day is for you.\n \n\nðŸ“… Date: Friday, Decemebr 12, 2025\nâ° Time: 9:00 AM – 2:00 PM PST\nðŸ“ Location: Liberty Lake, WA \n\nSeats are limited — secure your spot today and set yourself up for a strong 2026.\n\Location:\nMode Liberty Lake\n2110 N Molter Rd\nLiberty Lake, WA 99019
X-ALT-DESC;FMTTYPE=text/html:THE GROWTH & STRATEGY CONFERENCE 2026<br /><br />12/12/25 09:00 AM PST - 12/12/25 01:00 PM PST<br />Description:<br /><h2>YOU'VE WORKED HARD TO GROW. NOW YOU NEED A PLAN THAT PUTS YOU BACK&nbsp;IN CONTROL!</h2>

<p>You&rsquo;ve put in the work and built a business you can be proud of.<br data-end="337" data-start="334" />
But if you&rsquo;re honest, this year has felt heavier than you expected.</p>

<p data-end="546" data-start="406">You&rsquo;ve been pulled in every direction.<br data-end="447" data-start="444" />
Your time is stretched thin.<br data-end="478" data-start="475" />
And you&rsquo;re making big decisions without the clarity you really need.</p>

<p data-end="701" data-start="548">You know your business has more potential.<br data-end="593" data-start="590" />
You just need space to slow down, think clearly, and build a plan that helps you lead with confidence again.</p>

<p data-end="812" data-start="703">The truth is, guessing your way into 2026 won&rsquo;t get you where you want to go.<br data-end="783" data-start="780" />
Planning with intention will.</p>

<p data-end="1024" data-start="814">The Business Owner&rsquo;s Growth and Strategy Conference 2026 is your chance to step back from the noise, see your business through a fresh lens, and create a focused growth plan you can execute without burning out.</p>
<br />Details:<br /><h3>WHAT YOU'LL EXPERIENCE</h3>

<p data-end="369" data-start="208">At the Business Owner&rsquo;s Growth and Strategy Conference 2026, you&rsquo;ll step out of the daily grind and into a space built for clarity, planning, and smarter growth.</p>

<p>Here&rsquo;s what you can expect:</p>

<ul>
	<li><strong data-end="436" data-start="400">Reflect on What Worked This Year</strong><br data-end="439" data-start="436" />
	You&rsquo;ll look at the wins, the challenges, and the patterns that shaped your year so you can make smarter decisions for what comes next.</li>
	<li><strong data-end="612" data-start="575">Get Clear on What Needs to Change</strong><br data-end="615" data-start="612" />
	You&rsquo;ll identify the gaps, roadblocks, and distractions that are slowing you down and learn how to shift into a more focused, effective way of leading.</li>
	<li><strong data-end="798" data-start="767">Build Your 2026 Growth Plan</strong><br data-end="801" data-start="798" />
	You&rsquo;ll walk through a guided process that helps you set clear priorities, organize your next steps, and create a plan you can actually stick with.</li>
	<li><strong data-end="992" data-start="949">Connect With Other Growth-Minded Owners</strong><br data-end="995" data-start="992" />
	You&rsquo;ll learn from peers who understand the pressures, decisions, and responsibilities you carry. The room alone will lift your perspective and sharpen your direction.&nbsp;</li>
</ul>

<h3>WHO THIS IS FOR</h3>

<p>This conference is designed for established business owners who:</p>

<ul>
	<li>Built a strong business, but feel like the pace, pressure, and decisions are getting heavier</li>
	<li>Want more clarity, more control, and a plan that helps them lead instead of react</li>
	<li>Know they need to slow down long enough to think, plan, and set clear direction for 2026</li>
	<li>Value being in a room with other owners who are serious about growth, leadership, and smarter scaling</li>
	<li>Are ready to step back, get focused, and create a plan they can put into motion with confidence</li>
</ul>

<p>If you&rsquo;re ready to stop guessing and start leading your business with purpose in 2026, this day is for you.<br />
&nbsp;</p>

<p>ðŸ“…&nbsp;<strong>Date:</strong>&nbsp;Friday,&nbsp;Decemebr&nbsp;12, 2025<br />
â°&nbsp;<strong>Time:</strong>&nbsp;9:00 AM &ndash; 2:00 PM PST<br />
ðŸ“&nbsp;<strong>Location:</strong>&nbsp;Liberty Lake, WA&nbsp;</p>

<p>Seats are limited &mdash; secure your spot today and set yourself up for a strong&nbsp;2026.</p>
<br />Location:<br />Mode Liberty Lake<br />2110 N Molter Rd<br />Liberty Lake, WA 99019
PRIORITY:3
TRANSP:TRANSPARENT
BEGIN:VALARM
TRIGGER:-PT5M
ACTION:DISPLAY
DESCRIPTION:Reminder
END:VALARM
END:VEVENT
END:VCALENDAR
