BEGIN:VCALENDAR
VERSION:2.0
CALSCALE:GREGORIAN
METHOD:PUBLISH
PRODID://WPCC//1402551
BEGIN:VEVENT
DTSTAMP:20260422T185311
VTIMEZONE:America/Los_Angeles
DTSTART:20260123T193000Z
DTEND:20260123T210000Z
UID:1402551
SUMMARY:Why ChatGPT Alone Is Quietly Holding Your Business Back | Free Lunch & Learn for Business Leaders
LOCATION:Burbity Workspaces, Spokane Valley, WA
DESCRIPTION:Why ChatGPT Alone Is Quietly Holding Your Business Back | Free Lunch & Learn for Business Leaders\n\n01/23/26 11:30 AM PST\n - 01/23/26 01:00 PM PST\Description:\nWhy ChatGPT Alone Is Quietly Holding Your Business Back\nA Lunch & Learn for Business Leaders\n\nMany businesses are using AI tools like ChatGPT to speed up tasks, but few are seeing meaningful impact on how their business actually runs.\n\nThis interactive Lunch & Learn is designed for business owners, executives, and team leaders who want to move beyond AI experiments and understand how AI can support better decisions, smoother operations, and stronger execution.\n\nYou will explore:\n\n\n	\n	Why AI tools used in isolation often create more effort instead of momentum\n	\n	\n	The difference between AI for tasks and AI for leadership and execution\n	\n	\n	How forward-thinking businesses connect AI to real workflows and decision-making\n	 \n	\n\n\nThis is a non-technical, practical conversation focused on leadership, operations, and real-world application. Lunch is provided, along with time for discussion and networking.\n\nDate: January 23\nTime: 11:30 AM – 1:00 PM\nLocation: Burbity Workspaces, Spokane Valley, WA\n\Details:\nFREE LUNCH AND LEARN\Location:\nBurbity Workspaces, Spokane Valley, WA\n\n,
X-ALT-DESC;FMTTYPE=text/html:Why ChatGPT Alone Is Quietly Holding Your Business Back | Free Lunch & Learn for Business Leaders<br /><br />01/23/26 11:30 AM PST - 01/23/26 01:00 PM PST<br />Description:<br /><p><strong>Why ChatGPT Alone Is Quietly Holding Your Business Back</strong><br />
<strong>A Lunch &amp; Learn for Business Leaders</strong></p>

<p>Many businesses are using AI tools like ChatGPT to speed up tasks, but few are seeing meaningful impact on how their business actually runs.</p>

<p>This interactive Lunch &amp; Learn is designed for business owners, executives, and team leaders who want to move beyond AI experiments and understand how AI can support better decisions, smoother operations, and stronger execution.</p>

<p>You will explore:</p>

<ul>
	<li>
	<p>Why AI tools used in isolation often create more effort instead of momentum</p>
	</li>
	<li>
	<p>The difference between AI for tasks and AI for leadership and execution</p>
	</li>
	<li>
	<p>How forward-thinking businesses connect AI to real workflows and decision-making<br />
	&nbsp;</p>
	</li>
</ul>

<p>This is a non-technical, practical conversation focused on leadership, operations, and real-world application. Lunch is provided, along with time for discussion and networking.</p>

<p><strong>Date:</strong>&nbsp;January 23<br />
<strong>Time:</strong>&nbsp;11:30 AM &ndash; 1:00 PM<br />
<strong>Location:</strong>&nbsp;Burbity Workspaces, Spokane Valley, WA</p>
<br />Details:<br />FREE LUNCH AND LEARN<br />Location:<br />Burbity Workspaces, Spokane Valley, WA<br /><br />,  
PRIORITY:3
TRANSP:TRANSPARENT
BEGIN:VALARM
TRIGGER:-PT5M
ACTION:DISPLAY
DESCRIPTION:Reminder
END:VALARM
END:VEVENT
END:VCALENDAR
