BEGIN:VCALENDAR
VERSION:2.0
CALSCALE:GREGORIAN
METHOD:PUBLISH
PRODID://WPCC//1402553
BEGIN:VEVENT
DTSTAMP:20260422T172606
VTIMEZONE:America/Los_Angeles
DTSTART:20260206T000000Z
DTEND:20260206T010000Z
UID:1402553
SUMMARY:Swashbuckling Heroines and High Seas Adventures with Novelist Vanessa Riley
LOCATION:Online SCLD Library Event
DESCRIPTION:Swashbuckling Heroines and High Seas Adventures with Novelist Vanessa Riley\n\n02/05/26 04:00 PM PST\n - 02/05/26 05:00 PM PST\Description:\nRegistration is required to view the live event and submit questions for the author. Register using the Event URL below.\n\nJoin us for an unforgettable experience as we chat online with Vanessa Riley about her newest book, Fire Sword and Sea, based on the folk story of the female pirate Jacquotte Delahaye.\n\nThe Caribbean Sea, 1675. Jacquotte Delahaye is the mixed-race daughter of a wealthy tavern owner on the island of Tortuga. Instead of marriage, Jacquotte dreams of joining the seafarers and smugglers whose tall-masted ships cluster in the turquoise waters around Tortuga. In Haiti she becomes Jacques, a dockworker, earning the respect of those around her while hiding her gender.\n\nJacquotte discovers that secret identities are fairly common in the chaotic world of seafaring, which is full of outsiders and misfits. As Jacques, Jacquotte falls in love with Lizzôa d'Erville, a beautiful courtesan who deals in secrets and sex. While others see their work clothes as a disguise, Lizzôa’s true self is as a woman.\n\nFor the next twenty years, Jacquotte raids the Caribbean, making enemies and amassing a fortune in stolen gold. When her fellow pirates decide to increase their profits by entering the slave trade, Jacquotte turns away from piracy and the pursuit of riches. Risking her life in one deadly skirmish after another, she instead begins to plot a war of liberation.\n\nDon’t miss out on this exciting discussion! Register now to embark on a seafaring journey of self discovery and reclamation of personal power.\n\nAbout the Author: Vanessa Riley is an award-winning author and proud recipient of the 2024 Georgia Mystery/Detective Fiction Author of the Year. She writes Sagas and Book Club Fiction that brings to life the hidden narratives of Black women and women of color in novels like Island Queen and Queen of Exiles. Her stories celebrate strong sisterhoods, diverse communities, and resilience across historical fiction, romance, and mystery genres.Her work has been featured in the Atlanta Journal-Constitution, Washington Post, Entertainment Weekly, NPR, Publishers Weekly, and The New York Times.\n\nSCLD Online Authors Series\n\Details:\nFree\nRegistration is required to view live event\nhttps://scld.libcal.com/event/16023613\Location:\nOnline SCLD Library Event\n\n,
X-ALT-DESC;FMTTYPE=text/html:Swashbuckling Heroines and High Seas Adventures with Novelist Vanessa Riley<br /><br />02/05/26 04:00 PM PST - 02/05/26 05:00 PM PST<br />Description:<br /><p>Registration is required to view the live event and submit questions for the author. Register using the Event URL below.</p>

<p>Join us for an unforgettable experience as we chat online with Vanessa Riley about her newest book,&nbsp;<em><a href="https://catalog.scld.org/Search/Results?lookfor=%22fire+sword+and+sea%22+Delahaye">Fire Sword and Sea</a></em>, based on the folk story of the female pirate Jacquotte Delahaye.</p>

<p>The Caribbean Sea, 1675. Jacquotte Delahaye is the mixed-race daughter of a wealthy tavern owner on the island of Tortuga. Instead of marriage, Jacquotte dreams of joining the seafarers and smugglers whose tall-masted ships cluster in the turquoise waters around Tortuga. In Haiti she becomes Jacques, a dockworker, earning the respect of those around her while hiding her gender.</p>

<p>Jacquotte discovers that secret identities are fairly common in the chaotic world of seafaring, which is full of outsiders and misfits. As Jacques, Jacquotte falls in love with Lizz&ocirc;a d'Erville, a beautiful courtesan who deals in secrets and sex. While others see their work clothes as a disguise, Lizz&ocirc;a&rsquo;s true self is as a woman.</p>

<p>For the next twenty years, Jacquotte raids the Caribbean, making enemies and amassing a fortune in stolen gold. When her fellow pirates decide to increase their profits by entering the slave trade, Jacquotte turns away from piracy and the pursuit of riches. Risking her life in one deadly skirmish after another, she instead begins to plot a war of liberation.</p>

<p>Don&rsquo;t miss out on this exciting discussion! Register now to embark on a seafaring journey of self discovery and reclamation of personal power.</p>

<p>About the Author: Vanessa Riley is an award-winning author and proud recipient of the 2024 Georgia Mystery/Detective Fiction Author of the Year. She writes Sagas and Book Club Fiction that brings to life the hidden narratives of Black women and women of color in novels like<em>&nbsp;Island Queen</em>&nbsp;and&nbsp;<em>Queen of Exiles</em>. Her stories celebrate strong sisterhoods, diverse communities, and resilience across historical fiction, romance, and mystery genres.Her work has been featured in the&nbsp;<em>Atlanta Journal-Constitution</em>,&nbsp;<em>Washington Post</em>,&nbsp;<em>Entertainment Weekly</em>, NPR,&nbsp;<em>Publishers Weekly</em>, and&nbsp;<em>The New York Times</em>.</p>

<p>SCLD Online Authors Series</p>
<br />Details:<br />Free<br />
Registration is required to view live event<br />
https://scld.libcal.com/event/16023613<br />Location:<br />Online SCLD Library Event<br /><br />,  
PRIORITY:3
TRANSP:TRANSPARENT
BEGIN:VALARM
TRIGGER:-PT5M
ACTION:DISPLAY
DESCRIPTION:Reminder
END:VALARM
END:VEVENT
END:VCALENDAR
