BEGIN:VCALENDAR
VERSION:2.0
CALSCALE:GREGORIAN
METHOD:PUBLISH
PRODID://WPCC//1402554
BEGIN:VEVENT
DTSTAMP:20260422T190216
VTIMEZONE:America/Los_Angeles
DTSTART:20260115T020000Z
DTEND:20260115T040000Z
UID:1402554
SUMMARY:Meals on the Move Bingo Night
LOCATION:West Plains Brewery, 12622 W Sunset Hwy Suite D, Airway Heights, WA, 99001
DESCRIPTION:Meals on the Move Bingo Night\n\n01/14/26 06:00 PM PST\n - 01/14/26 08:00 PM PST\Description:\nMeals on Wheels is hosting Bingo Night at the West Plains Brewery on January 14th at 6:00pm. \n- 5 rounds with prizes for each round\n\n- 1 free bingo card per round\n\n- Raffles throughout the night\n\n- Bonus bingo cards to increase odds of winning for sale at the cost of a meal ($5)\n\Details:\nMeals on Wheels is hosting Bingo Night at the West Plains Brewery on January 14th at 6:00pm. \nEveryone and anyone is welcome to come and join us at the West Plains Brewery for a Bingo Night!\n- 5 rounds with prizes for each round\n\n- 1 free bingo card per round\n\n- Raffles throughout the night\n\n- Bonus bingo cards to increase odds of winning for sale at the cost of a meal ($5)\n*All proceeds go to ensuring seniors across Spokane County are nourished and cared for\n\Location:\nWest Plains Brewery\n12622 W Sunset Hwy Suite D\nAirway Heights, WA 99001
X-ALT-DESC;FMTTYPE=text/html:Meals on the Move Bingo Night<br /><br />01/14/26 06:00 PM PST - 01/14/26 08:00 PM PST<br />Description:<br />Meals on Wheels is hosting Bingo Night at the West Plains Brewery on January 14th at 6:00pm.&nbsp;
<p>- 5 rounds with prizes for each round</p>

<p>- 1 free bingo card per round</p>

<p>- Raffles throughout the night</p>

<p>- Bonus bingo cards to increase odds of winning for sale at the cost of a meal ($5)</p>
<br />Details:<br />Meals on Wheels is hosting Bingo Night at the West Plains Brewery on January 14th at 6:00pm.&nbsp;<br />
Everyone and anyone is welcome to come and join us at the West Plains Brewery for a Bingo Night!
<p>- 5 rounds with prizes for each round</p>

<p>- 1 free bingo card per round</p>

<p>- Raffles throughout the night</p>

<p>- Bonus bingo cards to increase odds of winning for sale at the cost of a meal ($5)<br />
*All proceeds go to ensuring seniors across Spokane County are nourished and cared for</p>
<br />Location:<br />West Plains Brewery<br />12622 W Sunset Hwy Suite D<br />Airway Heights, WA 99001
PRIORITY:3
TRANSP:TRANSPARENT
BEGIN:VALARM
TRIGGER:-PT5M
ACTION:DISPLAY
DESCRIPTION:Reminder
END:VALARM
END:VEVENT
END:VCALENDAR
