BEGIN:VCALENDAR
VERSION:2.0
CALSCALE:GREGORIAN
METHOD:PUBLISH
PRODID://WPCC//1409202
BEGIN:VEVENT
DTSTAMP:20260422T232820
VTIMEZONE:America/Los_Angeles
DTSTART:20261120T020000Z
DTEND:20261120T050000Z
UID:1409202
SUMMARY:Best of the West
LOCATION:
DESCRIPTION:Best of the West\n\n11/19/26 06:00 PM PST\n - 11/19/26 09:00 PM PST
X-ALT-DESC;FMTTYPE=text/html:Best of the West<br /><br />11/19/26 06:00 PM PST - 11/19/26 09:00 PM PST
PRIORITY:3
TRANSP:TRANSPARENT
BEGIN:VALARM
TRIGGER:-PT5M
ACTION:DISPLAY
DESCRIPTION:Reminder
END:VALARM
END:VEVENT
END:VCALENDAR
